BEGIN:VCALENDAR
VERSION:2.0
PRODID:Events Booking
BEGIN:VEVENT
UID:69e8e176a7c3f
SUMMARY:18.04.26 - Aufzucht von Bienenköniginnen - Zuchtverfahren\, Gerät
 schaften\, Zuchtplanung
DESCRIPTION:Präsenzkurs in Kleinkemnat
 Kursleiter: Johann Fischer
LOCATION:Stefanstal 4\, 87600 Kaufbeuren
DTSTART:20260418T070000Z
DTEND:20260418T140000Z
DTSTAMP:20251110T105910Z
ORGANIZER;CN=Imkerschule Schwaben:MAILTO:imkerschule@imker-schwaben.de
GEO:47.890058;10.583051
X-APPLE-STRUCTURED-LOCATION;VALUE=URI;X-ADDRESS=Stefanstal 4\, 87600 Kaufbe
 uren;X-APPLE-RADIUS=72;X-TITLE=Imkerschule Schwaben:47.890058;10.583051
END:VEVENT
END:VCALENDAR