BEGIN:VCALENDAR
VERSION:2.0
PRODID:Events Booking
BEGIN:VEVENT
UID:69e5a1fac6cb9
SUMMARY:Anfängerkurs: Einführung in die Imkerei
DESCRIPTION:Präsenzkurs in Bickenried
LOCATION:Bickenried 2\, 87660 Irsee
DTSTART:20240921T070000Z
DTEND:20240921T140000Z
DTSTAMP:20231104T183416Z
ORGANIZER;CN=Imkerschule Schwaben:MAILTO:imkerschule@imker-schwaben.de
GEO:47.899666;10.58165
X-APPLE-STRUCTURED-LOCATION;VALUE=URI;X-ADDRESS=Bickenried 2\, 87660 Irsee;
 X-APPLE-RADIUS=72;X-TITLE=Schulungsort Bickenried:47.899666;10.58165
END:VEVENT
END:VCALENDAR